BEGIN:VCALENDAR
VERSION:2.0
PRODID:-//Portland Farmers Market - ECPv6.15.20//NONSGML v1.0//EN
CALSCALE:GREGORIAN
METHOD:PUBLISH
X-WR-CALNAME:Portland Farmers Market
X-ORIGINAL-URL:https://www.portlandfarmersmarket.org
X-WR-CALDESC:Events for Portland Farmers Market
REFRESH-INTERVAL;VALUE=DURATION:PT1H
X-Robots-Tag:noindex
X-PUBLISHED-TTL:PT1H
BEGIN:VTIMEZONE
TZID:America/Los_Angeles
BEGIN:DAYLIGHT
TZOFFSETFROM:-0800
TZOFFSETTO:-0700
TZNAME:PDT
DTSTART:20240310T100000
END:DAYLIGHT
BEGIN:STANDARD
TZOFFSETFROM:-0700
TZOFFSETTO:-0800
TZNAME:PST
DTSTART:20241103T090000
END:STANDARD
BEGIN:DAYLIGHT
TZOFFSETFROM:-0800
TZOFFSETTO:-0700
TZNAME:PDT
DTSTART:20250309T100000
END:DAYLIGHT
BEGIN:STANDARD
TZOFFSETFROM:-0700
TZOFFSETTO:-0800
TZNAME:PST
DTSTART:20251102T090000
END:STANDARD
BEGIN:DAYLIGHT
TZOFFSETFROM:-0800
TZOFFSETTO:-0700
TZNAME:PDT
DTSTART:20260308T100000
END:DAYLIGHT
BEGIN:STANDARD
TZOFFSETFROM:-0700
TZOFFSETTO:-0800
TZNAME:PST
DTSTART:20261101T090000
END:STANDARD
END:VTIMEZONE
BEGIN:VEVENT
DTSTART;TZID=America/Los_Angeles:20250702T150000
DTEND;TZID=America/Los_Angeles:20250702T190000
DTSTAMP:20260420T072058
CREATED:20250221T192520Z
LAST-MODIFIED:20250527T215135Z
UID:10002823-1751468400-1751482800@www.portlandfarmersmarket.org
SUMMARY:Kenton Farmers Market
DESCRIPTION:Kenton Farmers Market\, located in historic North Portland\, features 15 vendors selling fresh local produce and food products on Wednesday afternoons from June to September. Kids of all ages can enjoy activities  about food and farming provided and there is live music from 5 pm to 7 pm.
URL:https://www.portlandfarmersmarket.org/event/kenton-farmers-market/2025-07-02/
LOCATION:Kenton Farmers Market\, N McClellan St & N Denver Ave\, Portland\, OR\, 97217\, United States
CATEGORIES:Kenton Farmers Market
ATTACH;FMTTYPE=image/jpeg:https://www.portlandfarmersmarket.org/wp-content/uploads/2023/05/IMG_2634-scaled-e1723508547834.jpg
GEO:45.5832371;-122.6873115
X-APPLE-STRUCTURED-LOCATION;VALUE=URI;X-ADDRESS=Kenton Farmers Market N McClellan St & N Denver Ave Portland OR 97217 United States;X-APPLE-RADIUS=500;X-TITLE=N McClellan St & N Denver Ave:geo:-122.6873115,45.5832371
END:VEVENT
BEGIN:VEVENT
DTSTART;TZID=America/Los_Angeles:20250702T170000
DTEND;TZID=America/Los_Angeles:20250702T190000
DTSTAMP:20260420T072058
CREATED:20250701T010034Z
LAST-MODIFIED:20250701T011106Z
UID:10002897-1751475600-1751482800@www.portlandfarmersmarket.org
SUMMARY:Big Bossa + Nova
DESCRIPTION:Enjoy live music by Big Bossa + Nova delivering vintage grooves like Bossa Nova\, stride\, New Orleans second line\, danceable jazz\, and blues. They perform an energetic mix of songs in Spanish\, Portuguese\, and English.
URL:https://www.portlandfarmersmarket.org/event/big-bossa-nova/
LOCATION:Kenton Farmers Market\, N McClellan St & N Denver Ave\, Portland\, OR\, 97217\, United States
CATEGORIES:Kenton Farmers Market
ATTACH;FMTTYPE=image/png:https://www.portlandfarmersmarket.org/wp-content/uploads/2025/06/big-bossa--e1751332251257.png
GEO:45.5832371;-122.6873115
X-APPLE-STRUCTURED-LOCATION;VALUE=URI;X-ADDRESS=Kenton Farmers Market N McClellan St & N Denver Ave Portland OR 97217 United States;X-APPLE-RADIUS=500;X-TITLE=N McClellan St & N Denver Ave:geo:-122.6873115,45.5832371
END:VEVENT
BEGIN:VEVENT
DTSTART;TZID=America/Los_Angeles:20250709T150000
DTEND;TZID=America/Los_Angeles:20250709T190000
DTSTAMP:20260420T072058
CREATED:20250221T192520Z
LAST-MODIFIED:20250527T215135Z
UID:10002824-1752073200-1752087600@www.portlandfarmersmarket.org
SUMMARY:Kenton Farmers Market
DESCRIPTION:Kenton Farmers Market\, located in historic North Portland\, features 15 vendors selling fresh local produce and food products on Wednesday afternoons from June to September. Kids of all ages can enjoy activities  about food and farming provided and there is live music from 5 pm to 7 pm.
URL:https://www.portlandfarmersmarket.org/event/kenton-farmers-market/2025-07-09/
LOCATION:Kenton Farmers Market\, N McClellan St & N Denver Ave\, Portland\, OR\, 97217\, United States
CATEGORIES:Kenton Farmers Market
ATTACH;FMTTYPE=image/jpeg:https://www.portlandfarmersmarket.org/wp-content/uploads/2023/05/IMG_2634-scaled-e1723508547834.jpg
GEO:45.5832371;-122.6873115
X-APPLE-STRUCTURED-LOCATION;VALUE=URI;X-ADDRESS=Kenton Farmers Market N McClellan St & N Denver Ave Portland OR 97217 United States;X-APPLE-RADIUS=500;X-TITLE=N McClellan St & N Denver Ave:geo:-122.6873115,45.5832371
END:VEVENT
BEGIN:VEVENT
DTSTART;TZID=America/Los_Angeles:20250709T170000
DTEND;TZID=America/Los_Angeles:20250709T190000
DTSTAMP:20260420T072058
CREATED:20250701T010917Z
LAST-MODIFIED:20250701T010918Z
UID:10002898-1752080400-1752087600@www.portlandfarmersmarket.org
SUMMARY:Triple File Band
DESCRIPTION:Live music by Triple File Band\, three childhood friends who play twin fiddles and a guitar. They perform a variety of traditional fiddle music from around the globe\, including Irish\, Scottish\, Quebecois\, Tohono O’odham\, Métis\, Old-Time\, and Scandinavian.
URL:https://www.portlandfarmersmarket.org/event/triple-file-band/
LOCATION:Kenton Farmers Market\, N McClellan St & N Denver Ave\, Portland\, OR\, 97217\, United States
CATEGORIES:Kenton Farmers Market
ATTACH;FMTTYPE=image/png:https://www.portlandfarmersmarket.org/wp-content/uploads/2025/06/triple-file-band.png
GEO:45.5832371;-122.6873115
X-APPLE-STRUCTURED-LOCATION;VALUE=URI;X-ADDRESS=Kenton Farmers Market N McClellan St & N Denver Ave Portland OR 97217 United States;X-APPLE-RADIUS=500;X-TITLE=N McClellan St & N Denver Ave:geo:-122.6873115,45.5832371
END:VEVENT
BEGIN:VEVENT
DTSTART;TZID=America/Los_Angeles:20250716T150000
DTEND;TZID=America/Los_Angeles:20250716T190000
DTSTAMP:20260420T072058
CREATED:20250221T192520Z
LAST-MODIFIED:20250527T215135Z
UID:10002825-1752678000-1752692400@www.portlandfarmersmarket.org
SUMMARY:Kenton Farmers Market
DESCRIPTION:Kenton Farmers Market\, located in historic North Portland\, features 15 vendors selling fresh local produce and food products on Wednesday afternoons from June to September. Kids of all ages can enjoy activities  about food and farming provided and there is live music from 5 pm to 7 pm.
URL:https://www.portlandfarmersmarket.org/event/kenton-farmers-market/2025-07-16/
LOCATION:Kenton Farmers Market\, N McClellan St & N Denver Ave\, Portland\, OR\, 97217\, United States
CATEGORIES:Kenton Farmers Market
ATTACH;FMTTYPE=image/jpeg:https://www.portlandfarmersmarket.org/wp-content/uploads/2023/05/IMG_2634-scaled-e1723508547834.jpg
GEO:45.5832371;-122.6873115
X-APPLE-STRUCTURED-LOCATION;VALUE=URI;X-ADDRESS=Kenton Farmers Market N McClellan St & N Denver Ave Portland OR 97217 United States;X-APPLE-RADIUS=500;X-TITLE=N McClellan St & N Denver Ave:geo:-122.6873115,45.5832371
END:VEVENT
BEGIN:VEVENT
DTSTART;TZID=America/Los_Angeles:20250723T150000
DTEND;TZID=America/Los_Angeles:20250723T190000
DTSTAMP:20260420T072058
CREATED:20250221T192520Z
LAST-MODIFIED:20250527T215135Z
UID:10002826-1753282800-1753297200@www.portlandfarmersmarket.org
SUMMARY:Kenton Farmers Market
DESCRIPTION:Kenton Farmers Market\, located in historic North Portland\, features 15 vendors selling fresh local produce and food products on Wednesday afternoons from June to September. Kids of all ages can enjoy activities  about food and farming provided and there is live music from 5 pm to 7 pm.
URL:https://www.portlandfarmersmarket.org/event/kenton-farmers-market/2025-07-23/
LOCATION:Kenton Farmers Market\, N McClellan St & N Denver Ave\, Portland\, OR\, 97217\, United States
CATEGORIES:Kenton Farmers Market
ATTACH;FMTTYPE=image/jpeg:https://www.portlandfarmersmarket.org/wp-content/uploads/2023/05/IMG_2634-scaled-e1723508547834.jpg
GEO:45.5832371;-122.6873115
X-APPLE-STRUCTURED-LOCATION;VALUE=URI;X-ADDRESS=Kenton Farmers Market N McClellan St & N Denver Ave Portland OR 97217 United States;X-APPLE-RADIUS=500;X-TITLE=N McClellan St & N Denver Ave:geo:-122.6873115,45.5832371
END:VEVENT
BEGIN:VEVENT
DTSTART;TZID=America/Los_Angeles:20250723T170000
DTEND;TZID=America/Los_Angeles:20250723T190000
DTSTAMP:20260420T072058
CREATED:20250701T013006Z
LAST-MODIFIED:20250701T013008Z
UID:10002900-1753290000-1753297200@www.portlandfarmersmarket.org
SUMMARY:The Kurdish Nomads
DESCRIPTION:The Kurdish Nomads are a diverse group of Kurdish performers who play music on traditional musical instruments\, reflecting their rich cultural heritage. They tell stories through songs that depict daily life\, nature\, migration\, and the resilience of people.
URL:https://www.portlandfarmersmarket.org/event/the-kurdish-nomads/
LOCATION:Kenton Farmers Market\, N McClellan St & N Denver Ave\, Portland\, OR\, 97217\, United States
CATEGORIES:Kenton Farmers Market
ATTACH;FMTTYPE=image/png:https://www.portlandfarmersmarket.org/wp-content/uploads/2025/06/the-kurdish-nomads-e1751333394918.png
GEO:45.5832371;-122.6873115
X-APPLE-STRUCTURED-LOCATION;VALUE=URI;X-ADDRESS=Kenton Farmers Market N McClellan St & N Denver Ave Portland OR 97217 United States;X-APPLE-RADIUS=500;X-TITLE=N McClellan St & N Denver Ave:geo:-122.6873115,45.5832371
END:VEVENT
BEGIN:VEVENT
DTSTART;TZID=America/Los_Angeles:20250730T150000
DTEND;TZID=America/Los_Angeles:20250730T190000
DTSTAMP:20260420T072058
CREATED:20250221T192520Z
LAST-MODIFIED:20250527T215135Z
UID:10002827-1753887600-1753902000@www.portlandfarmersmarket.org
SUMMARY:Kenton Farmers Market
DESCRIPTION:Kenton Farmers Market\, located in historic North Portland\, features 15 vendors selling fresh local produce and food products on Wednesday afternoons from June to September. Kids of all ages can enjoy activities  about food and farming provided and there is live music from 5 pm to 7 pm.
URL:https://www.portlandfarmersmarket.org/event/kenton-farmers-market/2025-07-30/
LOCATION:Kenton Farmers Market\, N McClellan St & N Denver Ave\, Portland\, OR\, 97217\, United States
CATEGORIES:Kenton Farmers Market
ATTACH;FMTTYPE=image/jpeg:https://www.portlandfarmersmarket.org/wp-content/uploads/2023/05/IMG_2634-scaled-e1723508547834.jpg
GEO:45.5832371;-122.6873115
X-APPLE-STRUCTURED-LOCATION;VALUE=URI;X-ADDRESS=Kenton Farmers Market N McClellan St & N Denver Ave Portland OR 97217 United States;X-APPLE-RADIUS=500;X-TITLE=N McClellan St & N Denver Ave:geo:-122.6873115,45.5832371
END:VEVENT
BEGIN:VEVENT
DTSTART;TZID=America/Los_Angeles:20250730T170000
DTEND;TZID=America/Los_Angeles:20250730T190000
DTSTAMP:20260420T072058
CREATED:20250701T013354Z
LAST-MODIFIED:20250701T013356Z
UID:10002901-1753894800-1753902000@www.portlandfarmersmarket.org
SUMMARY:Richie Bean
DESCRIPTION:Richie Bean plays hit songs from the ’60s & ’70s\, along with some well-crafted originals. “Crunchy bits of voodoo blues mixed with soft\, chewy morsels of alternative rock and country” is a good description of his music.
URL:https://www.portlandfarmersmarket.org/event/richie-bean/
LOCATION:Kenton Farmers Market\, N McClellan St & N Denver Ave\, Portland\, OR\, 97217\, United States
CATEGORIES:Kenton Farmers Market
ATTACH;FMTTYPE=image/png:https://www.portlandfarmersmarket.org/wp-content/uploads/2025/06/richie-bean.png
GEO:45.5832371;-122.6873115
X-APPLE-STRUCTURED-LOCATION;VALUE=URI;X-ADDRESS=Kenton Farmers Market N McClellan St & N Denver Ave Portland OR 97217 United States;X-APPLE-RADIUS=500;X-TITLE=N McClellan St & N Denver Ave:geo:-122.6873115,45.5832371
END:VEVENT
END:VCALENDAR