BEGIN:VCALENDAR
VERSION:2.0
PRODID:-//Portland Farmers Market - ECPv6.15.20//NONSGML v1.0//EN
CALSCALE:GREGORIAN
METHOD:PUBLISH
X-WR-CALNAME:Portland Farmers Market
X-ORIGINAL-URL:https://www.portlandfarmersmarket.org
X-WR-CALDESC:Events for Portland Farmers Market
REFRESH-INTERVAL;VALUE=DURATION:PT1H
X-Robots-Tag:noindex
X-PUBLISHED-TTL:PT1H
BEGIN:VTIMEZONE
TZID:America/Los_Angeles
BEGIN:DAYLIGHT
TZOFFSETFROM:-0800
TZOFFSETTO:-0700
TZNAME:PDT
DTSTART:20240310T100000
END:DAYLIGHT
BEGIN:STANDARD
TZOFFSETFROM:-0700
TZOFFSETTO:-0800
TZNAME:PST
DTSTART:20241103T090000
END:STANDARD
BEGIN:DAYLIGHT
TZOFFSETFROM:-0800
TZOFFSETTO:-0700
TZNAME:PDT
DTSTART:20250309T100000
END:DAYLIGHT
BEGIN:STANDARD
TZOFFSETFROM:-0700
TZOFFSETTO:-0800
TZNAME:PST
DTSTART:20251102T090000
END:STANDARD
BEGIN:DAYLIGHT
TZOFFSETFROM:-0800
TZOFFSETTO:-0700
TZNAME:PDT
DTSTART:20260308T100000
END:DAYLIGHT
BEGIN:STANDARD
TZOFFSETFROM:-0700
TZOFFSETTO:-0800
TZNAME:PST
DTSTART:20261101T090000
END:STANDARD
END:VTIMEZONE
BEGIN:VEVENT
DTSTART;TZID=America/Los_Angeles:20250906T083000
DTEND;TZID=America/Los_Angeles:20250906T140000
DTSTAMP:20260421T013118
CREATED:20250221T190406Z
LAST-MODIFIED:20250401T220457Z
UID:10002784-1757147400-1757167200@www.portlandfarmersmarket.org
SUMMARY:PSU Farmers Market
DESCRIPTION:Our year-round flagship farmers market at Portland State University features 100 local farmers and food producers every Saturday. \n\n\n\n\n\n\n\n\n\n\n\nSeries
URL:https://www.portlandfarmersmarket.org/event/psu-farmers-market-2/2025-09-06/
LOCATION:PSU Farmers Market\, SW Park & Montgomery\, Portland\, OR\, 97201\, United States
CATEGORIES:PSU Farmers Market
ATTACH;FMTTYPE=image/jpeg:https://www.portlandfarmersmarket.org/wp-content/uploads/2023/08/psu-jun23.jpg
GEO:45.5128932;-122.6853859
X-APPLE-STRUCTURED-LOCATION;VALUE=URI;X-ADDRESS=PSU Farmers Market SW Park & Montgomery Portland OR 97201 United States;X-APPLE-RADIUS=500;X-TITLE=SW Park & Montgomery:geo:-122.6853859,45.5128932
END:VEVENT
BEGIN:VEVENT
DTSTART;TZID=America/Los_Angeles:20250913T083000
DTEND;TZID=America/Los_Angeles:20250913T140000
DTSTAMP:20260421T013118
CREATED:20250221T190406Z
LAST-MODIFIED:20250401T220457Z
UID:10002785-1757752200-1757772000@www.portlandfarmersmarket.org
SUMMARY:PSU Farmers Market
DESCRIPTION:Our year-round flagship farmers market at Portland State University features 100 local farmers and food producers every Saturday. \n\n\n\n\n\n\n\n\n\n\n\nSeries
URL:https://www.portlandfarmersmarket.org/event/psu-farmers-market-2/2025-09-13/
LOCATION:PSU Farmers Market\, SW Park & Montgomery\, Portland\, OR\, 97201\, United States
CATEGORIES:PSU Farmers Market
ATTACH;FMTTYPE=image/jpeg:https://www.portlandfarmersmarket.org/wp-content/uploads/2023/08/psu-jun23.jpg
GEO:45.5128932;-122.6853859
X-APPLE-STRUCTURED-LOCATION;VALUE=URI;X-ADDRESS=PSU Farmers Market SW Park & Montgomery Portland OR 97201 United States;X-APPLE-RADIUS=500;X-TITLE=SW Park & Montgomery:geo:-122.6853859,45.5128932
END:VEVENT
BEGIN:VEVENT
DTSTART;TZID=America/Los_Angeles:20250920T083000
DTEND;TZID=America/Los_Angeles:20250920T140000
DTSTAMP:20260421T013118
CREATED:20250221T190406Z
LAST-MODIFIED:20250401T220457Z
UID:10002786-1758357000-1758376800@www.portlandfarmersmarket.org
SUMMARY:PSU Farmers Market
DESCRIPTION:Our year-round flagship farmers market at Portland State University features 100 local farmers and food producers every Saturday. \n\n\n\n\n\n\n\n\n\n\n\nSeries
URL:https://www.portlandfarmersmarket.org/event/psu-farmers-market-2/2025-09-20/
LOCATION:PSU Farmers Market\, SW Park & Montgomery\, Portland\, OR\, 97201\, United States
CATEGORIES:PSU Farmers Market
ATTACH;FMTTYPE=image/jpeg:https://www.portlandfarmersmarket.org/wp-content/uploads/2023/08/psu-jun23.jpg
GEO:45.5128932;-122.6853859
X-APPLE-STRUCTURED-LOCATION;VALUE=URI;X-ADDRESS=PSU Farmers Market SW Park & Montgomery Portland OR 97201 United States;X-APPLE-RADIUS=500;X-TITLE=SW Park & Montgomery:geo:-122.6853859,45.5128932
END:VEVENT
BEGIN:VEVENT
DTSTART;TZID=America/Los_Angeles:20250927T083000
DTEND;TZID=America/Los_Angeles:20250927T140000
DTSTAMP:20260421T013118
CREATED:20250221T190406Z
LAST-MODIFIED:20250401T220457Z
UID:10002787-1758961800-1758981600@www.portlandfarmersmarket.org
SUMMARY:PSU Farmers Market
DESCRIPTION:Our year-round flagship farmers market at Portland State University features 100 local farmers and food producers every Saturday. \n\n\n\n\n\n\n\n\n\n\n\nSeries
URL:https://www.portlandfarmersmarket.org/event/psu-farmers-market-2/2025-09-27/
LOCATION:PSU Farmers Market\, SW Park & Montgomery\, Portland\, OR\, 97201\, United States
CATEGORIES:PSU Farmers Market
ATTACH;FMTTYPE=image/jpeg:https://www.portlandfarmersmarket.org/wp-content/uploads/2023/08/psu-jun23.jpg
GEO:45.5128932;-122.6853859
X-APPLE-STRUCTURED-LOCATION;VALUE=URI;X-ADDRESS=PSU Farmers Market SW Park & Montgomery Portland OR 97201 United States;X-APPLE-RADIUS=500;X-TITLE=SW Park & Montgomery:geo:-122.6853859,45.5128932
END:VEVENT
END:VCALENDAR